BEGIN:VCALENDAR
VERSION:2.0
PRODID:KKTIX
CALSCALE:GREGORIAN
METHOD:PUBLISH
BEGIN:VTIMEZONE
TZID:Asia/Taipei
END:VTIMEZONE
BEGIN:VEVENT
DTSTAMP:20260420T091856Z
UID:73632a61-b3ff-4619-92c3-db9659447bfe
DTSTART:20150617T110000Z
DTEND:20150617T120000Z
CLASS:PUBLIC
DESCRIPTION:https://soeasyedu.kktix.cc/events/f97fc6d9
LOCATION: (台北市中正區公園路30號4樓)  新北市板橋區中山
 路一段10號7樓
SUMMARY:免費講座-城市玩樂新世界之都-倫敦
END:VEVENT
END:VCALENDAR
